Package: MBttest Version: 1.34.0 Command: /home/biocbuild/bbs-3.20-bioc/R/bin/R CMD INSTALL MBttest StartedAt: 2025-01-27 15:58:13 -0500 (Mon, 27 Jan 2025) EndedAt: 2025-01-27 15:58:20 -0500 (Mon, 27 Jan 2025) EllapsedTime: 7.8 seconds RetCode: 0 Status: OK