Package: MBttest Version: 1.34.0 Command: /Library/Frameworks/R.framework/Resources/bin/R CMD build --keep-empty-dirs --no-resave-data MBttest StartedAt: 2025-03-31 19:50:11 -0400 (Mon, 31 Mar 2025) EndedAt: 2025-03-31 19:51:09 -0400 (Mon, 31 Mar 2025) EllapsedTime: 58.0 seconds RetCode: 0 Status: OK PackageFile: MBttest_1.34.0.tar.gz PackageFileSize: 3.447 MiB