Package: MBQN Version: 2.18.0 Command: /home/biocbuild/R/R/bin/R CMD INSTALL MBQN StartedAt: 2025-01-30 20:40:38 -0000 (Thu, 30 Jan 2025) EndedAt: 2025-01-30 20:40:41 -0000 (Thu, 30 Jan 2025) EllapsedTime: 3.1 seconds RetCode: 0 Status: OK