Package: MBQN Version: 2.18.0 Command: rm -rf MBQN.buildbin-libdir && mkdir MBQN.buildbin-libdir && /Users/biocbuild/BBS/utils/build-universal.sh MBQN_2.18.0.tar.gz /Library/Frameworks/R.framework/Resources/bin/R MBQN.buildbin-libdir StartedAt: 2025-01-31 13:06:24 -0500 (Fri, 31 Jan 2025) EndedAt: 2025-01-31 13:06:31 -0500 (Fri, 31 Jan 2025) EllapsedTime: 7.6 seconds RetCode: 0 Status: OK PackageFile: MBQN_2.18.0.tgz PackageFileSize: 282 KiB