Package: MBQN Version: 2.18.0 Command: /Library/Frameworks/R.framework/Resources/bin/R CMD build --keep-empty-dirs --no-resave-data MBQN StartedAt: 2025-01-31 02:37:53 -0500 (Fri, 31 Jan 2025) EndedAt: 2025-01-31 02:38:05 -0500 (Fri, 31 Jan 2025) EllapsedTime: 11.4 seconds RetCode: 0 Status: OK PackageFile: MBQN_2.18.0.tar.gz PackageFileSize: 220.6 KiB