Package: MBECS Version: 1.10.0 Command: F:\biocbuild\bbs-3.20-bioc\R\bin\R.exe CMD INSTALL MBECS StartedAt: 2025-02-03 16:15:05 -0500 (Mon, 03 Feb 2025) EndedAt: 2025-02-03 16:15:55 -0500 (Mon, 03 Feb 2025) EllapsedTime: 50.1 seconds RetCode: 0 Status: OK