Package: MBECS Version: 1.10.0 Command: chmod a+r MBECS -R && F:\biocbuild\bbs-3.20-bioc\R\bin\R.exe CMD build --keep-empty-dirs --no-resave-data MBECS StartedAt: 2025-02-03 20:10:01 -0500 (Mon, 03 Feb 2025) EndedAt: 2025-02-03 20:11:36 -0500 (Mon, 03 Feb 2025) EllapsedTime: 95.2 seconds RetCode: 0 Status: OK PackageFile: MBECS_1.10.0.tar.gz PackageFileSize: 1.452 MiB