Package: MBECS Version: 1.10.0 Command: /Library/Frameworks/R.framework/Resources/bin/R CMD check --install=check:MBECS.install-out.txt --library=/Library/Frameworks/R.framework/Resources/library --no-vignettes --timings MBECS_1.10.0.tar.gz StartedAt: 2025-01-28 06:04:01 -0500 (Tue, 28 Jan 2025) EndedAt: 2025-01-28 06:13:05 -0500 (Tue, 28 Jan 2025) EllapsedTime: 543.4 seconds RetCode: 0 Status: OK CheckDir: MBECS.Rcheck Warnings: 0