Package: MBECS Version: 1.10.0 Command: rm -rf MBECS.buildbin-libdir && mkdir MBECS.buildbin-libdir && /Users/biocbuild/BBS/utils/build-universal.sh MBECS_1.10.0.tar.gz /Library/Frameworks/R.framework/Resources/bin/R MBECS.buildbin-libdir StartedAt: 2025-01-28 13:36:14 -0500 (Tue, 28 Jan 2025) EndedAt: 2025-01-28 13:37:34 -0500 (Tue, 28 Jan 2025) EllapsedTime: 80.1 seconds RetCode: 0 Status: OK PackageFile: MBECS_1.10.0.tgz PackageFileSize: 798.5 KiB