Package: MBECS Version: 1.10.0 Command: /Library/Frameworks/R.framework/Resources/bin/R CMD INSTALL MBECS StartedAt: 2025-01-27 17:32:59 -0500 (Mon, 27 Jan 2025) EndedAt: 2025-01-27 17:33:16 -0500 (Mon, 27 Jan 2025) EllapsedTime: 17.4 seconds RetCode: 0 Status: OK