Package: MBCB Version: 1.60.0 Command: /home/biocbuild/R/R/bin/R CMD build --keep-empty-dirs --no-resave-data MBCB StartedAt: 2025-02-04 00:41:45 -0000 (Tue, 04 Feb 2025) EndedAt: 2025-02-04 00:41:50 -0000 (Tue, 04 Feb 2025) EllapsedTime: 5.0 seconds RetCode: 1 Status: ERROR PackageFile: None PackageFileSize: NA