Package: MBCB Version: 1.60.0 Command: rm -rf MBCB.buildbin-libdir && mkdir MBCB.buildbin-libdir && F:\biocbuild\bbs-3.20-bioc\R\bin\R.exe CMD INSTALL --build --library=MBCB.buildbin-libdir MBCB_1.60.0.tar.gz StartedAt: 2025-01-28 08:29:49 -0500 (Tue, 28 Jan 2025) EndedAt: 2025-01-28 08:29:58 -0500 (Tue, 28 Jan 2025) EllapsedTime: 8.9 seconds RetCode: 0 Status: OK PackageFile: MBCB_1.60.0.zip PackageFileSize: 381.3 KiB