Package: MBCB Version: 1.59.0 Command: rm -rf MBCB.buildbin-libdir && mkdir MBCB.buildbin-libdir && C:\Users\biocbuild\bbs-3.20-bioc\R\bin\R.exe CMD INSTALL --build --library=MBCB.buildbin-libdir MBCB_1.59.0.tar.gz StartedAt: 2024-07-16 06:23:41 -0400 (Tue, 16 Jul 2024) EndedAt: 2024-07-16 06:23:55 -0400 (Tue, 16 Jul 2024) EllapsedTime: 14.5 seconds RetCode: 0 Status: OK PackageFile: MBCB_1.59.0.zip PackageFileSize: 381.4 KiB