Package: MBCB Version: 1.60.0 Command: /Library/Frameworks/R.framework/Resources/bin/R CMD build --keep-empty-dirs --no-resave-data MBCB StartedAt: 2024-11-19 17:29:11 -0500 (Tue, 19 Nov 2024) EndedAt: 2024-11-19 17:29:29 -0500 (Tue, 19 Nov 2024) EllapsedTime: 18.4 seconds RetCode: 0 Status: OK PackageFile: MBCB_1.60.0.tar.gz PackageFileSize: 409.2 KiB