Package: MBAmethyl Version: 1.40.0 Command: chmod a+r MBAmethyl -R && F:\biocbuild\bbs-3.20-bioc\R\bin\R.exe CMD build --keep-empty-dirs --no-resave-data MBAmethyl StartedAt: 2025-01-27 19:55:53 -0500 (Mon, 27 Jan 2025) EndedAt: 2025-01-27 19:56:12 -0500 (Mon, 27 Jan 2025) EllapsedTime: 18.5 seconds RetCode: 0 Status: OK PackageFile: MBAmethyl_1.40.0.tar.gz PackageFileSize: 86.93 KiB