Package: MBAmethyl Version: 1.40.0 Command: /Library/Frameworks/R.framework/Resources/bin/R CMD INSTALL MBAmethyl StartedAt: 2025-01-27 15:08:26 -0500 (Mon, 27 Jan 2025) EndedAt: 2025-01-27 15:08:42 -0500 (Mon, 27 Jan 2025) EllapsedTime: 15.7 seconds RetCode: 0 Status: OK