Package: MBAmethyl Version: 1.40.0 Command: /Library/Frameworks/R.framework/Resources/bin/R CMD check --install=check:MBAmethyl.install-out.txt --library=/Library/Frameworks/R.framework/Resources/library --no-vignettes --timings MBAmethyl_1.40.0.tar.gz StartedAt: 2025-04-01 05:09:33 -0400 (Tue, 01 Apr 2025) EndedAt: 2025-04-01 05:10:12 -0400 (Tue, 01 Apr 2025) EllapsedTime: 38.8 seconds RetCode: 0 Status: OK CheckDir: MBAmethyl.Rcheck Warnings: 0