Package: MBASED Version: 1.40.0 Command: rm -rf MBASED.buildbin-libdir && mkdir MBASED.buildbin-libdir && /Users/biocbuild/BBS/utils/build-universal.sh MBASED_1.40.0.tar.gz /Library/Frameworks/R.framework/Resources/bin/R MBASED.buildbin-libdir StartedAt: 2025-04-01 12:10:40 -0400 (Tue, 01 Apr 2025) EndedAt: 2025-04-01 12:11:30 -0400 (Tue, 01 Apr 2025) EllapsedTime: 50.0 seconds RetCode: 0 Status: OK PackageFile: MBASED_1.40.0.tgz PackageFileSize: 495.4 KiB