Package: MAST Version: 1.32.0 Command: chmod a+r MAST -R && F:\biocbuild\bbs-3.20-bioc\R\bin\R.exe CMD build --keep-empty-dirs --no-resave-data MAST StartedAt: 2025-01-27 19:54:40 -0500 (Mon, 27 Jan 2025) EndedAt: 2025-01-27 20:00:58 -0500 (Mon, 27 Jan 2025) EllapsedTime: 378.2 seconds RetCode: 0 Status: OK PackageFile: MAST_1.32.0.tar.gz PackageFileSize: 5.39 MiB