Package: MAST Version: 1.32.0 Command: /home/biocbuild/bbs-3.20-bioc/R/bin/R CMD check --install=check:MAST.install-out.txt --library=/home/biocbuild/bbs-3.20-bioc/R/site-library --timings MAST_1.32.0.tar.gz StartedAt: 2025-02-03 23:47:30 -0500 (Mon, 03 Feb 2025) EndedAt: 2025-02-03 23:55:27 -0500 (Mon, 03 Feb 2025) EllapsedTime: 477.5 seconds RetCode: 0 Status: WARNINGS CheckDir: MAST.Rcheck Warnings: 1