Package: MAST Version: 1.32.0 Command: /Library/Frameworks/R.framework/Resources/bin/R CMD build --keep-empty-dirs --no-resave-data MAST StartedAt: 2025-03-31 19:47:41 -0400 (Mon, 31 Mar 2025) EndedAt: 2025-03-31 19:57:43 -0400 (Mon, 31 Mar 2025) EllapsedTime: 602.1 seconds RetCode: 1 Status: ERROR PackageFile: None PackageFileSize: NA