Package: MANOR Version: 1.78.0 Command: rm -rf MANOR.buildbin-libdir && mkdir MANOR.buildbin-libdir && /Users/biocbuild/BBS/utils/build-universal.sh MANOR_1.78.0.tar.gz /Library/Frameworks/R.framework/Resources/bin/R MANOR.buildbin-libdir StartedAt: 2025-01-31 13:05:26 -0500 (Fri, 31 Jan 2025) EndedAt: 2025-01-31 13:05:40 -0500 (Fri, 31 Jan 2025) EllapsedTime: 13.7 seconds RetCode: 0 Status: OK PackageFile: MANOR_1.78.0.tgz PackageFileSize: 1.785 MiB