Package: MAIT Version: 1.40.0 Command: /home/biocbuild/R/R/bin/R CMD INSTALL MAIT StartedAt: 2025-02-03 21:13:01 -0000 (Mon, 03 Feb 2025) EndedAt: 2025-02-03 21:14:08 -0000 (Mon, 03 Feb 2025) EllapsedTime: 67.3 seconds RetCode: 0 Status: OK