Package: MAIT Version: 1.40.0 Command: /home/biocbuild/R/R/bin/R CMD check --install=check:MAIT.install-out.txt --library=/home/biocbuild/R/R/site-library --no-vignettes --timings MAIT_1.40.0.tar.gz StartedAt: 2025-01-28 08:30:55 -0000 (Tue, 28 Jan 2025) EndedAt: 2025-01-28 08:39:50 -0000 (Tue, 28 Jan 2025) EllapsedTime: 535.7 seconds RetCode: 0 Status: OK CheckDir: MAIT.Rcheck Warnings: 0