Package: MAIT Version: 1.40.0 Command: F:\biocbuild\bbs-3.20-bioc\R\bin\R.exe CMD INSTALL MAIT StartedAt: 2025-01-27 16:49:22 -0500 (Mon, 27 Jan 2025) EndedAt: 2025-01-27 16:50:35 -0500 (Mon, 27 Jan 2025) EllapsedTime: 73.1 seconds RetCode: 0 Status: OK