Package: MAIT Version: 1.40.0 Command: /home/biocbuild/bbs-3.20-bioc/R/bin/R CMD INSTALL MAIT StartedAt: 2025-01-27 16:43:15 -0500 (Mon, 27 Jan 2025) EndedAt: 2025-01-27 16:44:18 -0500 (Mon, 27 Jan 2025) EllapsedTime: 62.7 seconds RetCode: 0 Status: OK