Package: MAIT Version: 1.40.0 Command: /Library/Frameworks/R.framework/Resources/bin/R CMD INSTALL MAIT StartedAt: 2025-01-27 16:30:04 -0500 (Mon, 27 Jan 2025) EndedAt: 2025-01-27 16:31:57 -0500 (Mon, 27 Jan 2025) EllapsedTime: 113.4 seconds RetCode: 0 Status: OK