Package: MAIT Version: 1.40.0 Command: /home/biocbuild/R/R/bin/R CMD build --keep-empty-dirs --no-resave-data MAIT StartedAt: 2024-11-20 01:48:09 -0000 (Wed, 20 Nov 2024) EndedAt: 2024-11-20 01:52:29 -0000 (Wed, 20 Nov 2024) EllapsedTime: 260.3 seconds RetCode: 0 Status: OK PackageFile: MAIT_1.40.0.tar.gz PackageFileSize: 2.36 MiB