Package: MAIT Version: 1.40.0 Command: /Library/Frameworks/R.framework/Resources/bin/R CMD INSTALL MAIT StartedAt: 2025-01-27 17:42:37 -0500 (Mon, 27 Jan 2025) EndedAt: 2025-01-27 17:43:39 -0500 (Mon, 27 Jan 2025) EllapsedTime: 61.6 seconds RetCode: 0 Status: OK