Package: MAI Version: 1.12.0 Command: /home/biocbuild/R/R/bin/R CMD build --keep-empty-dirs --no-resave-data MAI StartedAt: 2025-02-04 00:37:39 -0000 (Tue, 04 Feb 2025) EndedAt: 2025-02-04 00:44:54 -0000 (Tue, 04 Feb 2025) EllapsedTime: 435.2 seconds RetCode: 0 Status: OK PackageFile: MAI_1.12.0.tar.gz PackageFileSize: 519.9 KiB