Package: MAI Version: 1.12.0 Command: /home/biocbuild/bbs-3.20-bioc/R/bin/R CMD INSTALL MAI StartedAt: 2025-02-03 15:58:19 -0500 (Mon, 03 Feb 2025) EndedAt: 2025-02-03 15:58:50 -0500 (Mon, 03 Feb 2025) EllapsedTime: 30.5 seconds RetCode: 0 Status: OK