Package: MAI Version: 1.12.0 Command: /home/biocbuild/bbs-3.20-bioc/R/bin/R CMD check --install=check:MAI.install-out.txt --library=/home/biocbuild/bbs-3.20-bioc/R/site-library --timings MAI_1.12.0.tar.gz StartedAt: 2025-01-28 00:29:05 -0500 (Tue, 28 Jan 2025) EndedAt: 2025-01-28 00:40:06 -0500 (Tue, 28 Jan 2025) EllapsedTime: 660.7 seconds RetCode: 0 Status: OK CheckDir: MAI.Rcheck Warnings: 0