Package: MAI Version: 1.12.0 Command: /home/biocbuild/bbs-3.20-bioc/R/bin/R CMD build --keep-empty-dirs --no-resave-data --md5 MAI StartedAt: 2025-02-03 18:02:14 -0500 (Mon, 03 Feb 2025) EndedAt: 2025-02-03 18:06:36 -0500 (Mon, 03 Feb 2025) EllapsedTime: 262.3 seconds RetCode: 0 Status: OK PackageFile: MAI_1.12.0.tar.gz PackageFileSize: 453.3 KiB