Package: MAI Version: 1.12.0 Command: /Library/Frameworks/R.framework/Resources/bin/R CMD check --install=check:MAI.install-out.txt --library=/Library/Frameworks/R.framework/Resources/library --no-vignettes --timings MAI_1.12.0.tar.gz StartedAt: 2025-01-28 23:35:02 -0500 (Tue, 28 Jan 2025) EndedAt: 2025-01-28 23:42:49 -0500 (Tue, 28 Jan 2025) EllapsedTime: 466.5 seconds RetCode: 0 Status: OK CheckDir: MAI.Rcheck Warnings: 0