Package: MAGAR Version: 1.14.0 Command: /home/biocbuild/R/R/bin/R CMD INSTALL MAGAR StartedAt: 2025-01-30 21:06:51 -0000 (Thu, 30 Jan 2025) EndedAt: 2025-01-30 21:08:10 -0000 (Thu, 30 Jan 2025) EllapsedTime: 79.3 seconds RetCode: 0 Status: OK