Package: MAGAR Version: 1.14.0 Command: /home/biocbuild/R/R/bin/R CMD check --install=check:MAGAR.install-out.txt --library=/home/biocbuild/R/R/site-library --no-vignettes --timings MAGAR_1.14.0.tar.gz StartedAt: 2025-01-31 07:42:06 -0000 (Fri, 31 Jan 2025) EndedAt: 2025-01-31 07:50:59 -0000 (Fri, 31 Jan 2025) EllapsedTime: 532.8 seconds RetCode: 0 Status: OK CheckDir: MAGAR.Rcheck Warnings: 0