Package: MADSEQ Version: 1.32.0 Command: /Library/Frameworks/R.framework/Resources/bin/R CMD check --install=check:MADSEQ.install-out.txt --library=/Library/Frameworks/R.framework/Resources/library --no-vignettes --timings MADSEQ_1.32.0.tar.gz StartedAt: 2025-04-01 05:03:10 -0400 (Tue, 01 Apr 2025) EndedAt: 2025-04-01 05:13:19 -0400 (Tue, 01 Apr 2025) EllapsedTime: 608.5 seconds RetCode: 0 Status: OK CheckDir: MADSEQ.Rcheck Warnings: 0