Package: MACSr Version: 1.14.0 Command: /home/biocbuild/bbs-3.20-bioc/R/bin/R CMD build --keep-empty-dirs --no-resave-data --md5 MACSr StartedAt: 2025-02-03 18:01:41 -0500 (Mon, 03 Feb 2025) EndedAt: 2025-02-03 18:02:14 -0500 (Mon, 03 Feb 2025) EllapsedTime: 33.0 seconds RetCode: 0 Status: OK PackageFile: MACSr_1.14.0.tar.gz PackageFileSize: 5.114 MiB