Package: MACSr Version: 1.14.0 Command: rm -rf MACSr.buildbin-libdir && mkdir MACSr.buildbin-libdir && /Users/biocbuild/BBS/utils/build-universal.sh MACSr_1.14.0.tar.gz /Library/Frameworks/R.framework/Resources/bin/R MACSr.buildbin-libdir StartedAt: 2025-04-01 12:09:30 -0400 (Tue, 01 Apr 2025) EndedAt: 2025-04-01 12:10:12 -0400 (Tue, 01 Apr 2025) EllapsedTime: 41.8 seconds RetCode: 0 Status: OK PackageFile: MACSr_1.14.0.tgz PackageFileSize: 5.328 MiB