Package: MACSr Version: 1.14.0 Command: /Library/Frameworks/R.framework/Resources/bin/R CMD check --install=check:MACSr.install-out.txt --library=/Library/Frameworks/R.framework/Resources/library --no-vignettes --timings MACSr_1.14.0.tar.gz StartedAt: 2025-04-01 23:26:29 -0400 (Tue, 01 Apr 2025) EndedAt: 2025-04-01 23:30:11 -0400 (Tue, 01 Apr 2025) EllapsedTime: 221.3 seconds RetCode: 0 Status: OK CheckDir: MACSr.Rcheck Warnings: 0