Package: MACSQuantifyR Version: 1.20.0 Command: F:\biocbuild\bbs-3.20-bioc\R\bin\R.exe CMD INSTALL MACSQuantifyR StartedAt: 2025-02-03 16:03:02 -0500 (Mon, 03 Feb 2025) EndedAt: 2025-02-03 16:03:34 -0500 (Mon, 03 Feb 2025) EllapsedTime: 32.2 seconds RetCode: 0 Status: OK