Package: MACSQuantifyR Version: 1.20.0 Command: /Library/Frameworks/R.framework/Resources/bin/R CMD INSTALL MACSQuantifyR StartedAt: 2025-01-27 16:57:02 -0500 (Mon, 27 Jan 2025) EndedAt: 2025-01-27 16:57:09 -0500 (Mon, 27 Jan 2025) EllapsedTime: 7.5 seconds RetCode: 0 Status: OK