Package: M3Drop Version: 1.32.0 Command: /home/biocbuild/R/R/bin/R CMD build --keep-empty-dirs --no-resave-data M3Drop StartedAt: 2025-01-28 01:15:15 -0000 (Tue, 28 Jan 2025) EndedAt: 2025-01-28 01:17:34 -0000 (Tue, 28 Jan 2025) EllapsedTime: 139.1 seconds RetCode: 0 Status: OK PackageFile: M3Drop_1.32.0.tar.gz PackageFileSize: 12.24 MiB