Package: M3Drop Version: 1.32.0 Command: chmod a+r M3Drop -R && F:\biocbuild\bbs-3.20-bioc\R\bin\R.exe CMD build --keep-empty-dirs --no-resave-data M3Drop StartedAt: 2025-02-03 20:04:57 -0500 (Mon, 03 Feb 2025) EndedAt: 2025-02-03 20:08:38 -0500 (Mon, 03 Feb 2025) EllapsedTime: 221.2 seconds RetCode: 0 Status: OK PackageFile: M3Drop_1.32.0.tar.gz PackageFileSize: 12.14 MiB