Package: M3Drop Version: 1.32.0 Command: /Library/Frameworks/R.framework/Resources/bin/R CMD build --keep-empty-dirs --no-resave-data M3Drop StartedAt: 2024-11-19 17:26:02 -0500 (Tue, 19 Nov 2024) EndedAt: 2024-11-19 17:29:11 -0500 (Tue, 19 Nov 2024) EllapsedTime: 189.1 seconds RetCode: 0 Status: OK PackageFile: M3Drop_1.32.0.tar.gz PackageFileSize: 12.24 MiB