Package: M3Drop Version: 1.32.0 Command: /Library/Frameworks/R.framework/Resources/bin/R CMD INSTALL M3Drop StartedAt: 2025-03-31 17:45:29 -0400 (Mon, 31 Mar 2025) EndedAt: 2025-03-31 17:45:48 -0400 (Mon, 31 Mar 2025) EllapsedTime: 18.4 seconds RetCode: 0 Status: OK