Package: M3Drop Version: 1.32.0 Command: /Library/Frameworks/R.framework/Resources/bin/R CMD build --keep-empty-dirs --no-resave-data M3Drop StartedAt: 2025-04-01 02:08:26 -0400 (Tue, 01 Apr 2025) EndedAt: 2025-04-01 02:10:22 -0400 (Tue, 01 Apr 2025) EllapsedTime: 116.2 seconds RetCode: 0 Status: OK PackageFile: M3Drop_1.32.0.tar.gz PackageFileSize: 12.24 MiB