Package: M3C Version: 1.28.0 Command: /home/biocbuild/R/R/bin/R CMD check --install=check:M3C.install-out.txt --library=/home/biocbuild/R/R/site-library --no-vignettes --timings M3C_1.28.0.tar.gz StartedAt: 2025-01-28 08:29:04 -0000 (Tue, 28 Jan 2025) EndedAt: 2025-01-28 08:30:31 -0000 (Tue, 28 Jan 2025) EllapsedTime: 86.1 seconds RetCode: 0 Status: OK CheckDir: M3C.Rcheck Warnings: 0