Package: M3C Version: 1.28.0 Command: chmod a+r M3C -R && F:\biocbuild\bbs-3.20-bioc\R\bin\R.exe CMD build --keep-empty-dirs --no-resave-data M3C StartedAt: 2025-01-27 19:50:39 -0500 (Mon, 27 Jan 2025) EndedAt: 2025-01-27 19:52:03 -0500 (Mon, 27 Jan 2025) EllapsedTime: 84.4 seconds RetCode: 0 Status: OK PackageFile: M3C_1.28.0.tar.gz PackageFileSize: 589.7 KiB