Package: M3C Version: 1.28.0 Command: rm -rf M3C.buildbin-libdir && mkdir M3C.buildbin-libdir && F:\biocbuild\bbs-3.20-bioc\R\bin\R.exe CMD INSTALL --build --library=M3C.buildbin-libdir M3C_1.28.0.tar.gz StartedAt: 2025-01-28 08:27:48 -0500 (Tue, 28 Jan 2025) EndedAt: 2025-01-28 08:28:13 -0500 (Tue, 28 Jan 2025) EllapsedTime: 25.1 seconds RetCode: 0 Status: OK PackageFile: M3C_1.28.0.zip PackageFileSize: 760.7 KiB